BEGIN:VCALENDAR
VERSION:2.0
PRODID:SchoolNow
CALSCALE:GREGORIAN
BEGIN:VEVENT
UID:1614ebac-31ff-11f1-ba33-0e808c0cff65
DTSTAMP:20260425T153008Z
SUMMARY:Scholastic Book Fair
LOCATION:LMC\, JRG LMC
URL;VALUE=URI:https://www.kimberly.k12.wi.us/jr-gerritts-middle/calendar/89
 75460/scholastic-book-fair
DTSTART:20260504T123000Z
DTEND:20260504T200000Z
END:VEVENT
END:VCALENDAR
