BEGIN:VCALENDAR
VERSION:2.0
PRODID:SchoolNow
CALSCALE:GREGORIAN
BEGIN:VEVENT
UID:34dc7b76-3cdd-11f0-b701-02b055cda90b
DTSTAMP:20260420T013007Z
SUMMARY:Woodland Elementary Spring Carnival
URL;VALUE=URI:https://www.kimberly.k12.wi.us/woodland-elementary/calendar/8
 222318/woodland-elementary-spring-carnival
DTSTART:20260604T133000Z
DTEND:20260604T203000Z
END:VEVENT
END:VCALENDAR
