BEGIN:VCALENDAR
VERSION:2.0
PRODID:SchoolNow
CALSCALE:GREGORIAN
BEGIN:VEVENT
UID:8ad092fe-4653-11f0-870d-0a58a9feac02
DTSTAMP:20260420T013007Z
SUMMARY:12:00 PM Release
URL;VALUE=URI:https://www.kimberly.k12.wi.us/woodland-elementary/calendar/8
 283586/12-00-pm-release
DTSTART:20260123T143000Z
DTEND:20260123T180000Z
END:VEVENT
END:VCALENDAR
