BEGIN:VCALENDAR
VERSION:2.0
PRODID:SchoolNow
CALSCALE:GREGORIAN
BEGIN:VEVENT
UID:8ad09ace-4653-11f0-9046-0a58a9feac02
DTSTAMP:20260420T013007Z
SUMMARY:Last Day of School
URL;VALUE=URI:https://www.kimberly.k12.wi.us/woodland-elementary/calendar/8
 283595/last-day-of-school
DTSTART:20260604T133000Z
DTEND:20260604T203000Z
END:VEVENT
END:VCALENDAR
