BEGIN:VCALENDAR
VERSION:2.0
PRODID:SchoolNow
CALSCALE:GREGORIAN
BEGIN:VEVENT
UID:8ad09dd0-4653-11f0-ae6f-0a58a9feac02
DTSTAMP:20260420T013007Z
SUMMARY:No School
URL;VALUE=URI:https://www.kimberly.k12.wi.us/woodland-elementary/calendar/8
 283598/no-school
DTSTART:20251224T143000Z
DTEND:20251224T213000Z
END:VEVENT
END:VCALENDAR
