BEGIN:VCALENDAR
VERSION:2.0
PRODID:SchoolNow
CALSCALE:GREGORIAN
BEGIN:VEVENT
UID:8ad0a118-4653-11f0-ba31-0a58a9feac02
DTSTAMP:20260420T013007Z
SUMMARY:No School
URL;VALUE=URI:https://www.kimberly.k12.wi.us/woodland-elementary/calendar/8
 283601/no-school
DTSTART:20251229T143000Z
DTEND:20251229T213000Z
END:VEVENT
END:VCALENDAR
