BEGIN:VCALENDAR
VERSION:2.0
PRODID:SchoolNow
CALSCALE:GREGORIAN
BEGIN:VEVENT
UID:8ad0a49c-4653-11f0-863b-0a58a9feac02
DTSTAMP:20260420T013007Z
SUMMARY:No School
URL;VALUE=URI:https://www.kimberly.k12.wi.us/woodland-elementary/calendar/8
 283605/no-school
DTSTART:20260102T143000Z
DTEND:20260102T213000Z
END:VEVENT
END:VCALENDAR
