BEGIN:VCALENDAR
VERSION:2.0
PRODID:SchoolNow
CALSCALE:GREGORIAN
BEGIN:VEVENT
UID:8ad0a8e8-4653-11f0-8b0f-0a58a9feac02
DTSTAMP:20260420T013007Z
SUMMARY:No School
URL;VALUE=URI:https://www.kimberly.k12.wi.us/woodland-elementary/calendar/8
 283610/no-school
DTSTART:20260403T133000Z
DTEND:20260403T203000Z
END:VEVENT
END:VCALENDAR
