BEGIN:VCALENDAR
VERSION:2.0
PRODID:SchoolNow
CALSCALE:GREGORIAN
BEGIN:VEVENT
UID:cac3fafa-522d-11f0-b4e7-0affc29d20a3
DTSTAMP:20260420T013007Z
SUMMARY:PTO Meeting
URL;VALUE=URI:https://www.kimberly.k12.wi.us/woodland-elementary/calendar/8
 354313/pto-meeting
DTSTART:20260519T233000Z
DTEND:20260520T003000Z
END:VEVENT
END:VCALENDAR
