BEGIN:VCALENDAR
VERSION:2.0
PRODID:SchoolNow
CALSCALE:GREGORIAN
BEGIN:VEVENT
UID:b674372e-691e-11f0-9d4a-0e808eae816d
DTSTAMP:20260423T035008Z
SUMMARY:No School - Winter Break
URL;VALUE=URI:https://www.kimberly.k12.wi.us/woodland-intermediate/calendar
 /8444711/no-school-winter-break
DTSTART:20251224T133000Z
DTEND:20251224T205000Z
END:VEVENT
END:VCALENDAR
