BEGIN:VCALENDAR
VERSION:2.0
PRODID:SchoolNow
CALSCALE:GREGORIAN
BEGIN:VEVENT
UID:b674380a-691e-11f0-8a02-0e808eae816d
DTSTAMP:20260423T035008Z
SUMMARY:No School - Winter Break
URL;VALUE=URI:https://www.kimberly.k12.wi.us/woodland-intermediate/calendar
 /8444712/no-school-winter-break
DTSTART:20251225T133000Z
DTEND:20251225T205000Z
END:VEVENT
END:VCALENDAR
