BEGIN:VCALENDAR
VERSION:2.0
PRODID:SchoolNow
CALSCALE:GREGORIAN
BEGIN:VEVENT
UID:b67438dc-691e-11f0-aae6-0e808eae816d
DTSTAMP:20260423T035008Z
SUMMARY:No School - Winter Break
URL;VALUE=URI:https://www.kimberly.k12.wi.us/woodland-intermediate/calendar
 /8444713/no-school-winter-break
DTSTART:20251226T133000Z
DTEND:20251226T205000Z
END:VEVENT
END:VCALENDAR
