BEGIN:VCALENDAR
VERSION:2.0
PRODID:SchoolNow
CALSCALE:GREGORIAN
BEGIN:VEVENT
UID:b6743a94-691e-11f0-9cf0-0e808eae816d
DTSTAMP:20260423T035008Z
SUMMARY:No School - Winter Break
URL;VALUE=URI:https://www.kimberly.k12.wi.us/woodland-intermediate/calendar
 /8444715/no-school-winter-break
DTSTART:20251230T133000Z
DTEND:20251230T205000Z
END:VEVENT
END:VCALENDAR
