BEGIN:VCALENDAR
VERSION:2.0
PRODID:SchoolNow
CALSCALE:GREGORIAN
BEGIN:VEVENT
UID:b6743c42-691e-11f0-b4d1-0e808eae816d
DTSTAMP:20260423T035008Z
SUMMARY:No School - Winter Break
URL;VALUE=URI:https://www.kimberly.k12.wi.us/woodland-intermediate/calendar
 /8444717/no-school-winter-break
DTSTART:20260101T133000Z
DTEND:20260101T205000Z
END:VEVENT
END:VCALENDAR
