BEGIN:VCALENDAR
VERSION:2.0
PRODID:SchoolNow
CALSCALE:GREGORIAN
BEGIN:VEVENT
UID:b6743df0-691e-11f0-aac6-0e808eae816d
DTSTAMP:20260423T035008Z
SUMMARY:White Day
URL;VALUE=URI:https://www.kimberly.k12.wi.us/woodland-intermediate/calendar
 /8444719/white-day
DTSTART:20260109T123000Z
DTEND:20260109T124500Z
END:VEVENT
END:VCALENDAR
