BEGIN:VCALENDAR
VERSION:2.0
PRODID:SchoolNow
CALSCALE:GREGORIAN
BEGIN:VEVENT
UID:b6743ecc-691e-11f0-a4f6-0e808eae816d
DTSTAMP:20260423T035008Z
SUMMARY:Green Day
URL;VALUE=URI:https://www.kimberly.k12.wi.us/woodland-intermediate/calendar
 /8444720/green-day
DTSTART:20260116T123000Z
DTEND:20260116T124500Z
END:VEVENT
END:VCALENDAR
