BEGIN:VCALENDAR
VERSION:2.0
PRODID:SchoolNow
CALSCALE:GREGORIAN
BEGIN:VEVENT
UID:b6744084-691e-11f0-9fab-0e808eae816d
DTSTAMP:20260423T035008Z
SUMMARY:Early Release
URL;VALUE=URI:https://www.kimberly.k12.wi.us/woodland-intermediate/calendar
 /8444722/early-release
DTSTART:20260123T172000Z
DTEND:20260123T185000Z
END:VEVENT
END:VCALENDAR
