BEGIN:VCALENDAR
VERSION:2.0
PRODID:SchoolNow
CALSCALE:GREGORIAN
BEGIN:VEVENT
UID:b6744156-691e-11f0-9ac2-0e808eae816d
DTSTAMP:20260423T035008Z
SUMMARY:White Day
URL;VALUE=URI:https://www.kimberly.k12.wi.us/woodland-intermediate/calendar
 /8444723/white-day
DTSTART:20260130T123000Z
DTEND:20260130T124500Z
END:VEVENT
END:VCALENDAR
