BEGIN:VCALENDAR
VERSION:2.0
PRODID:SchoolNow
CALSCALE:GREGORIAN
BEGIN:VEVENT
UID:b6744a70-691e-11f0-94b7-0e808eae816d
DTSTAMP:20260422T154508Z
SUMMARY:White Day
URL;VALUE=URI:https://www.kimberly.k12.wi.us/woodland-intermediate/calendar
 /8444729/white-day
DTSTART:20260306T123000Z
DTEND:20260306T124500Z
END:VEVENT
END:VCALENDAR
