BEGIN:VCALENDAR
VERSION:2.0
PRODID:SchoolNow
CALSCALE:GREGORIAN
BEGIN:VEVENT
UID:b6744c14-691e-11f0-bdd7-0e808eae816d
DTSTAMP:20260422T154508Z
SUMMARY:Green Day
URL;VALUE=URI:https://www.kimberly.k12.wi.us/woodland-intermediate/calendar
 /8444730/green-day
DTSTART:20260313T113000Z
DTEND:20260313T114500Z
END:VEVENT
END:VCALENDAR
