BEGIN:VCALENDAR
VERSION:2.0
PRODID:SchoolNow
CALSCALE:GREGORIAN
BEGIN:VEVENT
UID:b6744cfa-691e-11f0-b816-0e808eae816d
DTSTAMP:20260422T154508Z
SUMMARY:Early Release
URL;VALUE=URI:https://www.kimberly.k12.wi.us/woodland-intermediate/calendar
 /8444731/early-release
DTSTART:20260313T162000Z
DTEND:20260313T195000Z
END:VEVENT
END:VCALENDAR
