BEGIN:VCALENDAR
VERSION:2.0
PRODID:SchoolNow
CALSCALE:GREGORIAN
BEGIN:VEVENT
UID:b6744dd6-691e-11f0-b4fe-0e808eae816d
DTSTAMP:20260422T154508Z
SUMMARY:Green Day
URL;VALUE=URI:https://www.kimberly.k12.wi.us/woodland-intermediate/calendar
 /8444732/green-day
DTSTART:20260320T113000Z
DTEND:20260320T114500Z
END:VEVENT
END:VCALENDAR
