BEGIN:VCALENDAR
VERSION:2.0
PRODID:SchoolNow
CALSCALE:GREGORIAN
BEGIN:VEVENT
UID:b6744eb2-691e-11f0-b1ea-0e808eae816d
DTSTAMP:20260422T154508Z
SUMMARY:White Day
URL;VALUE=URI:https://www.kimberly.k12.wi.us/woodland-intermediate/calendar
 /8444733/white-day
DTSTART:20260327T113000Z
DTEND:20260327T114500Z
END:VEVENT
END:VCALENDAR
