BEGIN:VCALENDAR
VERSION:2.0
PRODID:SchoolNow
CALSCALE:GREGORIAN
BEGIN:VEVENT
UID:ae7c3bee-6be3-11f0-b82d-02cc1ac9d1af
DTSTAMP:20260422T154508Z
SUMMARY:No School - Spring Break
URL;VALUE=URI:https://www.kimberly.k12.wi.us/woodland-intermediate/calendar
 /8452344/no-school-spring-break
DTSTART:20260330T123000Z
DTEND:20260330T195000Z
END:VEVENT
END:VCALENDAR
