BEGIN:VCALENDAR
VERSION:2.0
PRODID:SchoolNow
CALSCALE:GREGORIAN
BEGIN:VEVENT
UID:ae7c415c-6be3-11f0-90c7-02cc1ac9d1af
DTSTAMP:20260422T154508Z
SUMMARY:White Day
URL;VALUE=URI:https://www.kimberly.k12.wi.us/woodland-intermediate/calendar
 /8452350/white-day
DTSTART:20260417T113000Z
DTEND:20260417T114500Z
END:VEVENT
END:VCALENDAR
