BEGIN:VCALENDAR
VERSION:2.0
PRODID:SchoolNow
CALSCALE:GREGORIAN
BEGIN:VEVENT
UID:ae7c4404-6be3-11f0-81bc-02cc1ac9d1af
DTSTAMP:20260422T154508Z
SUMMARY:Green Day
URL;VALUE=URI:https://www.kimberly.k12.wi.us/woodland-intermediate/calendar
 /8452353/green-day
DTSTART:20260508T113000Z
DTEND:20260508T114500Z
END:VEVENT
END:VCALENDAR
