BEGIN:VCALENDAR
VERSION:2.0
PRODID:SchoolNow
CALSCALE:GREGORIAN
BEGIN:VEVENT
UID:ae7c44ea-6be3-11f0-b11c-02cc1ac9d1af
DTSTAMP:20260422T154508Z
SUMMARY:Early Release
URL;VALUE=URI:https://www.kimberly.k12.wi.us/woodland-intermediate/calendar
 /8452354/early-release
DTSTART:20260508T162000Z
DTEND:20260508T195000Z
END:VEVENT
END:VCALENDAR
