BEGIN:VCALENDAR
VERSION:2.0
PRODID:SchoolNow
CALSCALE:GREGORIAN
BEGIN:VEVENT
UID:ae7c45d0-6be3-11f0-9b53-02cc1ac9d1af
DTSTAMP:20260422T154508Z
SUMMARY:Green Day
URL;VALUE=URI:https://www.kimberly.k12.wi.us/woodland-intermediate/calendar
 /8452355/green-day
DTSTART:20260515T113000Z
DTEND:20260515T114500Z
END:VEVENT
END:VCALENDAR
