BEGIN:VCALENDAR
VERSION:2.0
PRODID:SchoolNow
CALSCALE:GREGORIAN
BEGIN:VEVENT
UID:ae7c46ac-6be3-11f0-8e56-02cc1ac9d1af
DTSTAMP:20260422T154508Z
SUMMARY:White Day
URL;VALUE=URI:https://www.kimberly.k12.wi.us/woodland-intermediate/calendar
 /8452356/white-day
DTSTART:20260522T113000Z
DTEND:20260522T114500Z
END:VEVENT
END:VCALENDAR
