BEGIN:VCALENDAR
VERSION:2.0
PRODID:SchoolNow
CALSCALE:GREGORIAN
BEGIN:VEVENT
UID:ae7c4788-6be3-11f0-85d1-02cc1ac9d1af
DTSTAMP:20260422T154508Z
SUMMARY:Green Day
URL;VALUE=URI:https://www.kimberly.k12.wi.us/woodland-intermediate/calendar
 /8452357/green-day
DTSTART:20260529T113000Z
DTEND:20260529T114500Z
END:VEVENT
END:VCALENDAR
