BEGIN:VCALENDAR
VERSION:2.0
PRODID:SchoolNow
CALSCALE:GREGORIAN
BEGIN:VEVENT
UID:9fdc80aa-716d-11f0-b387-0a58a9feac02
DTSTAMP:20260423T035008Z
SUMMARY:Parent Teacher Conferences
URL;VALUE=URI:https://www.kimberly.k12.wi.us/woodland-intermediate/calendar
 /8469779/parent-teacher-conferences
DTSTART:20260128T210000Z
DTEND:20260129T010000Z
END:VEVENT
END:VCALENDAR
