BEGIN:VCALENDAR
VERSION:2.0
PRODID:SchoolNow
CALSCALE:GREGORIAN
BEGIN:VEVENT
UID:9fdca1de-716d-11f0-b205-0a58a9feac02
DTSTAMP:20260423T035008Z
SUMMARY:Parent Teacher Conferences
URL;VALUE=URI:https://www.kimberly.k12.wi.us/woodland-intermediate/calendar
 /8469780/parent-teacher-conferences
DTSTART:20260129T210000Z
DTEND:20260130T010000Z
END:VEVENT
END:VCALENDAR
