BEGIN:VCALENDAR
VERSION:2.0
PRODID:SchoolNow
CALSCALE:GREGORIAN
BEGIN:VEVENT
UID:8a613c5e-885e-11f0-bf42-0a58a9feac02
DTSTAMP:20260423T035008Z
SUMMARY:Spirit Day - Holiday or Ugly Sweater Day
URL;VALUE=URI:https://www.kimberly.k12.wi.us/woodland-intermediate/calendar
 /8572729/spirit-day-holiday-or-ugly-sweater-day
DTSTART:20251223T130000Z
DTEND:20251223T133000Z
END:VEVENT
END:VCALENDAR
