BEGIN:VCALENDAR
VERSION:2.0
PRODID:SchoolNow
CALSCALE:GREGORIAN
BEGIN:VEVENT
UID:8a613d4e-885e-11f0-8b10-0a58a9feac02
DTSTAMP:20260423T035008Z
SUMMARY:Spirit Day - Comfy Clothes or Pajama Day
URL;VALUE=URI:https://www.kimberly.k12.wi.us/woodland-intermediate/calendar
 /8572730/spirit-day-comfy-clothes-or-pajama-day
DTSTART:20260109T130000Z
DTEND:20260109T133000Z
END:VEVENT
END:VCALENDAR
