BEGIN:VCALENDAR
VERSION:2.0
PRODID:SchoolNow
CALSCALE:GREGORIAN
BEGIN:VEVENT
UID:8a613f38-885e-11f0-93e8-0a58a9feac02
DTSTAMP:20260422T154508Z
SUMMARY:Spirit Day - Mishmatch or Fun Sock Day
URL;VALUE=URI:https://www.kimberly.k12.wi.us/woodland-intermediate/calendar
 /8572732/spirit-day-mishmatch-or-fun-sock-day
DTSTART:20260320T120000Z
DTEND:20260320T123000Z
END:VEVENT
END:VCALENDAR
