BEGIN:VCALENDAR
VERSION:2.0
PRODID:SchoolNow
CALSCALE:GREGORIAN
BEGIN:VEVENT
UID:8a61401e-885e-11f0-82f9-0a58a9feac02
DTSTAMP:20260422T154508Z
SUMMARY:Spirit Day - Homeroom Color Day
URL;VALUE=URI:https://www.kimberly.k12.wi.us/woodland-intermediate/calendar
 /8572733/spirit-day-homeroom-color-day
DTSTART:20260327T120000Z
DTEND:20260327T123000Z
END:VEVENT
END:VCALENDAR
