BEGIN:VCALENDAR
VERSION:2.0
PRODID:SchoolNow
CALSCALE:GREGORIAN
BEGIN:VEVENT
UID:8a61410e-885e-11f0-a49e-0a58a9feac02
DTSTAMP:20260422T154508Z
SUMMARY:Spirit Day - School Spirit Wear or Green/Gray Day
URL;VALUE=URI:https://www.kimberly.k12.wi.us/woodland-intermediate/calendar
 /8572734/spirit-day-school-spirit-wear-or-green-gray-day
DTSTART:20260515T120000Z
DTEND:20260515T123000Z
END:VEVENT
END:VCALENDAR
